BEGIN:VCALENDAR
VERSION:2.0
PRODID:-//Plone.org//NONSGML plone.app.event//EN
X-WR-TIMEZONE:Europe/Berlin
BEGIN:VEVENT
SUMMARY:Marburg Modul Symposium
DTSTART;TZID=Europe/Berlin:20240208T180000
DTEND;TZID=Europe/Berlin:20240208T210000
DTSTAMP:20260424T133240Z
UID:a8b4b874b5bc4861a1e35356ae18b18d@www.uni-marburg.de
CREATED:20240130T094841Z
DESCRIPTION:https://www.uni-marburg.de/de/universitaet/lehre/studienstrukt
 ur/marskills/aktuelle/termine/marburg-modul-symposium\n
LAST-MODIFIED:20241014T144239Z
LOCATION:DSA (Pilgrimstein 16)
URL:https://www.uni-marburg.de/de/universitaet/lehre/studienstruktur/marsk
 ills/aktuelle/termine/marburg-modul-symposium
END:VEVENT
BEGIN:VTIMEZONE
TZID:Europe/Berlin
X-LIC-LOCATION:Europe/Berlin
BEGIN:STANDARD
DTSTART:20231029T020000
TZNAME:CET
TZOFFSETFROM:+0200
TZOFFSETTO:+0100
END:STANDARD
END:VTIMEZONE
END:VCALENDAR
