BEGIN:VCALENDAR
VERSION:2.0
PRODID:-//Plone.org//NONSGML plone.app.event//EN
X-WR-TIMEZONE:Europe/Berlin
BEGIN:VEVENT
SUMMARY:Marburg Modul Werkstatt
DTSTART;TZID=Europe/Berlin:20240702T140000
DTEND;TZID=Europe/Berlin:20240702T180000
DTSTAMP:20260425T023815Z
UID:573b129a078046769f5d7076525d6941@www.uni-marburg.de
CREATED:20240614T101343Z
DESCRIPTION:https://www.uni-marburg.de/de/universitaet/lehre/studienstrukt
 ur/marskills/aktuelle/termine/marburg-modul-werkstatt\nOffenes Format zum 
 Informieren\, Austauschen\, Netzwerken und Entwickeln: Kommen Sie gern mit
  konkreten Fragen oder vagen Ideen zu Ihrem Marburg Modul Projekt.
LAST-MODIFIED:20241014T144239Z
LOCATION:online https://webconf.hrz.uni-marburg.de/n/rooms/tmx-njg-gtu-t7x
 /join
URL:https://www.uni-marburg.de/de/universitaet/lehre/studienstruktur/marsk
 ills/aktuelle/termine/marburg-modul-werkstatt
END:VEVENT
BEGIN:VTIMEZONE
TZID:Europe/Berlin
X-LIC-LOCATION:Europe/Berlin
BEGIN:DAYLIGHT
DTSTART:20240331T030000
TZNAME:CEST
TZOFFSETFROM:+0100
TZOFFSETTO:+0200
END:DAYLIGHT
END:VTIMEZONE
END:VCALENDAR
