BEGIN:VCALENDAR
VERSION:2.0
PRODID:-//Plone.org//NONSGML plone.app.event//EN
X-WR-TIMEZONE:Europe/Berlin
BEGIN:VEVENT
SUMMARY:MarSkills beim Uni-Sommerfest 2025
DTSTART;TZID=Europe/Berlin:20250725T140000
DTEND;TZID=Europe/Berlin:20250725T150000
DTSTAMP:20260425T035055Z
UID:79ceac42abdb458e8f554e30e98f6ea5@www.uni-marburg.de
CREATED:20250714T114719Z
DESCRIPTION:https://www.uni-marburg.de/de/universitaet/lehre/studienstrukt
 ur/marskills/aktuelle/termine/marskills-beim-uni-sommerfest-2025\nZum Absc
 hluss des SoSe 2025 feiern wir mit der Philipps-Universität Marburg auf d
 em Uni-Sommerfest im sommerlichen Botanischen Garten
LAST-MODIFIED:20250714T114926Z
LOCATION:Neuer Botanischer Garten Marburg
URL:https://www.uni-marburg.de/de/universitaet/lehre/studienstruktur/marsk
 ills/aktuelle/termine/marskills-beim-uni-sommerfest-2025
END:VEVENT
BEGIN:VTIMEZONE
TZID:Europe/Berlin
X-LIC-LOCATION:Europe/Berlin
BEGIN:DAYLIGHT
DTSTART:20250330T030000
TZNAME:CEST
TZOFFSETFROM:+0100
TZOFFSETTO:+0200
END:DAYLIGHT
END:VTIMEZONE
END:VCALENDAR
