BEGIN:VCALENDAR
VERSION:2.0
PRODID:-//Plone.org//NONSGML plone.app.event//EN
X-WR-TIMEZONE:Europe/Berlin
BEGIN:VEVENT
SUMMARY:MarSkills Forum "Future Skills in der Lehre: ChatGPT und Co"
DTSTART;TZID=Europe/Berlin:20230629T180000
DTEND;TZID=Europe/Berlin:20230629T210000
DTSTAMP:20260424T225819Z
UID:8b4160a0ea88430982a2dc0a0b1ac9a5@www.uni-marburg.de
CREATED:20230517T085119Z
DESCRIPTION:https://www.uni-marburg.de/de/universitaet/lehre/studienstrukt
 ur/marskills/aktuelle/termine/marskills-forum-future-skills-in-der-lehre-c
 hatgpt-und-co\n
LAST-MODIFIED:20241014T144239Z
LOCATION:DSA | Forschungszentrum Deutscher Sprachatlas (Vortragsraum 001)\
 , Pilgrimstein 16
URL:https://www.uni-marburg.de/de/universitaet/lehre/studienstruktur/marsk
 ills/aktuelle/termine/marskills-forum-future-skills-in-der-lehre-chatgpt-u
 nd-co
END:VEVENT
BEGIN:VTIMEZONE
TZID:Europe/Berlin
X-LIC-LOCATION:Europe/Berlin
BEGIN:DAYLIGHT
DTSTART:20230326T030000
TZNAME:CEST
TZOFFSETFROM:+0100
TZOFFSETTO:+0200
END:DAYLIGHT
END:VTIMEZONE
END:VCALENDAR
