BEGIN:VCALENDAR
VERSION:2.0
PRODID:-//Plone.org//NONSGML plone.app.event//EN
X-WR-TIMEZONE:Europe/Berlin
BEGIN:VEVENT
SUMMARY:MarSkills Forum intern - (In) MarSkills lehren
DTSTART;TZID=Europe/Berlin:20260205T100000
DTEND;TZID=Europe/Berlin:20260205T120000
DTSTAMP:20260425T001706Z
UID:d7eb1db3dd6646a9bc5a3614b82f5f8b@www.uni-marburg.de
CATEGORIES:()
CREATED:20260202T110844Z
DESCRIPTION:https://www.uni-marburg.de/de/universitaet/lehre/studienstrukt
 ur/marskills/aktuelle/termine/marskills-forum-intern-in-marskills-lehren\n
LAST-MODIFIED:20260202T111331Z
LOCATION:online https://webconf.hrz.uni-marburg.de/n/rooms/gra-l20-b3s-phz
 /join
URL:https://www.uni-marburg.de/de/universitaet/lehre/studienstruktur/marsk
 ills/aktuelle/termine/marskills-forum-intern-in-marskills-lehren
END:VEVENT
BEGIN:VTIMEZONE
TZID:Europe/Berlin
X-LIC-LOCATION:Europe/Berlin
BEGIN:STANDARD
DTSTART:20251026T020000
TZNAME:CET
TZOFFSETFROM:+0200
TZOFFSETTO:+0100
END:STANDARD
END:VTIMEZONE
END:VCALENDAR
