BEGIN:VCALENDAR
VERSION:2.0
PRODID:-//Plone.org//NONSGML plone.app.event//EN
X-WR-TIMEZONE:Europe/Berlin
BEGIN:VEVENT
SUMMARY:MarSkills Forum: KI-Barcamp #Lehren #Lernen
DTSTART;TZID=Europe/Berlin:20250717T180000
DTEND;TZID=Europe/Berlin:20250717T210000
DTSTAMP:20260424T204509Z
UID:29733f1e038f498b83003d7e77d09d4a@www.uni-marburg.de
CREATED:20250617T120056Z
DESCRIPTION:https://www.uni-marburg.de/de/universitaet/lehre/studienstrukt
 ur/marskills/aktuelle/termine/marskills-forum-ki-barcamp-lehren-lernen-1\n
 KI in der Hochschule – Chancen\, Herausforderungen und Zukunftsperspekti
 ven
LAST-MODIFIED:20250617T120158Z
LOCATION:DSA (Pilgrimstein 16)
URL:https://www.uni-marburg.de/de/universitaet/lehre/studienstruktur/marsk
 ills/aktuelle/termine/marskills-forum-ki-barcamp-lehren-lernen-1
END:VEVENT
BEGIN:VTIMEZONE
TZID:Europe/Berlin
X-LIC-LOCATION:Europe/Berlin
BEGIN:DAYLIGHT
DTSTART:20250330T030000
TZNAME:CEST
TZOFFSETFROM:+0100
TZOFFSETTO:+0200
END:DAYLIGHT
END:VTIMEZONE
END:VCALENDAR
