BEGIN:VCALENDAR
VERSION:2.0
PRODID:-//Plone.org//NONSGML plone.app.event//EN
X-WR-TIMEZONE:Europe/Berlin
BEGIN:VEVENT
SUMMARY:MarSkills Forum: Selbstbestimmt und praxisnah - Projekte in der Ho
 chschullehre
DTSTART;TZID=Europe/Berlin:20240627T180000
DTEND;TZID=Europe/Berlin:20240627T210000
DTSTAMP:20260425T050227Z
UID:fa94d3f2370749858d248da31d279f5b@www.uni-marburg.de
CREATED:20240521T102528Z
DESCRIPTION:https://www.uni-marburg.de/de/universitaet/lehre/studienstrukt
 ur/marskills/aktuelle/termine/marskills-forum-selbstbestimmt-und-praxisnah
 -projekte-in-der-hochschullehre-2\nInformationen und Austausch für Lehren
 de
LAST-MODIFIED:20241014T144239Z
LOCATION:DSA (Pilgrimstein 16)
URL:https://www.uni-marburg.de/de/universitaet/lehre/studienstruktur/marsk
 ills/aktuelle/termine/marskills-forum-selbstbestimmt-und-praxisnah-projekt
 e-in-der-hochschullehre-2
END:VEVENT
BEGIN:VTIMEZONE
TZID:Europe/Berlin
X-LIC-LOCATION:Europe/Berlin
BEGIN:DAYLIGHT
DTSTART:20240331T030000
TZNAME:CEST
TZOFFSETFROM:+0100
TZOFFSETTO:+0200
END:DAYLIGHT
END:VTIMEZONE
END:VCALENDAR
