BEGIN:VCALENDAR
VERSION:2.0
PRODID:-//Plone.org//NONSGML plone.app.event//EN
X-WR-TIMEZONE:Europe/Berlin
BEGIN:VEVENT
SUMMARY:MarSkills Forum: Selbstbestimmt und praxisnah - Projekte in der Ho
 chschullehre
DTSTART;TZID=Europe/Berlin:20240118T180000
DTEND;TZID=Europe/Berlin:20240118T210000
DTSTAMP:20260426T002325Z
UID:8a984972dec74352be289c64b48850b9@www.uni-marburg.de
CREATED:20231204T121140Z
DESCRIPTION:https://www.uni-marburg.de/de/universitaet/lehre/studienstrukt
 ur/marskills/aktuelle/termine/marskills-forum-selbstbestimmt-und-praxisnah
 -projekte-in-der-hochschullehre\nInformationen und Austausch für Lehrende
LAST-MODIFIED:20241014T144239Z
LOCATION:DSA (Pilgrimstein 16)
URL:https://www.uni-marburg.de/de/universitaet/lehre/studienstruktur/marsk
 ills/aktuelle/termine/marskills-forum-selbstbestimmt-und-praxisnah-projekt
 e-in-der-hochschullehre
END:VEVENT
BEGIN:VTIMEZONE
TZID:Europe/Berlin
X-LIC-LOCATION:Europe/Berlin
BEGIN:STANDARD
DTSTART:20231029T020000
TZNAME:CET
TZOFFSETFROM:+0200
TZOFFSETTO:+0100
END:STANDARD
END:VTIMEZONE
END:VCALENDAR
