BEGIN:VCALENDAR
VERSION:2.0
PRODID:-//Plone.org//NONSGML plone.app.event//EN
X-WR-TIMEZONE:Europe/Berlin
BEGIN:VEVENT
SUMMARY:MarSkills Forum
DTSTART;TZID=Europe/Berlin:20220510T120000
DTEND;TZID=Europe/Berlin:20220510T140000
DTSTAMP:20260422T075359Z
UID:e943979326b54a5db7be55f5ea1e0a37@www.uni-marburg.de
CREATED:20220503T150432Z
DESCRIPTION:https://www.uni-marburg.de/de/universitaet/lehre/studienstrukt
 ur/marskills/aktuelle/termine/marskills-forum\nInformation\, Austausch und
  Vernetzung für Interessierte an interdisziplinärer Lehre und dem Marbur
 g Modul
LAST-MODIFIED:20241014T144239Z
LOCATION:Deutschhausstraße 3\, Seminarraum –A101
URL:https://www.uni-marburg.de/de/universitaet/lehre/studienstruktur/marsk
 ills/aktuelle/termine/marskills-forum
END:VEVENT
BEGIN:VTIMEZONE
TZID:Europe/Berlin
X-LIC-LOCATION:Europe/Berlin
BEGIN:DAYLIGHT
DTSTART:20220327T030000
TZNAME:CEST
TZOFFSETFROM:+0100
TZOFFSETTO:+0200
END:DAYLIGHT
END:VTIMEZONE
END:VCALENDAR
