BEGIN:VCALENDAR
VERSION:2.0
PRODID:-//Plone.org//NONSGML plone.app.event//EN
X-WR-TIMEZONE:Europe/Berlin
BEGIN:VEVENT
SUMMARY:NIDIT | Teaching Futures Day
DTSTART;TZID=Europe/Berlin:20221006T090000
DTEND;TZID=Europe/Berlin:20221006T163000
DTSTAMP:20260424T155005Z
UID:2554c5316c5e4dc2808ea358f9233b11@www.uni-marburg.de
CREATED:20220914T131348Z
DESCRIPTION:https://www.uni-marburg.de/de/universitaet/lehre/studienstrukt
 ur/marskills/aktuelle/termine/nidit-teaching-futures-day\nAm NIDIT | Teach
 ing Futures Day möchte das NIDIT-Projekt der drei hessischen Hochschulen 
 Justus-Liebig-Universität Gießen\, Philipps-Universität Marburg und Tec
 hnische Hochschule Mittelhessen in die Zukunft schauen\, Antworten geben\,
  einen Raum für Diskussion eröffnen und dabei neue Impulse für die Hoch
 schulpraxis setzen.
LAST-MODIFIED:20241014T144239Z
LOCATION:Hybrid / Gießen / Marburg
URL:https://www.uni-marburg.de/de/universitaet/lehre/studienstruktur/marsk
 ills/aktuelle/termine/nidit-teaching-futures-day
END:VEVENT
BEGIN:VTIMEZONE
TZID:Europe/Berlin
X-LIC-LOCATION:Europe/Berlin
BEGIN:DAYLIGHT
DTSTART:20220327T030000
TZNAME:CEST
TZOFFSETFROM:+0100
TZOFFSETTO:+0200
END:DAYLIGHT
END:VTIMEZONE
END:VCALENDAR
