BEGIN:VCALENDAR
VERSION:2.0
PRODID:-//Plone.org//NONSGML plone.app.event//EN
X-WR-TIMEZONE:Europe/Berlin
BEGIN:VEVENT
SUMMARY:OE WiSe 2024/25: "Was ist dieses MarSkills eigentlich?"
DTSTART;TZID=Europe/Berlin:20241009T130000
DTEND;TZID=Europe/Berlin:20241009T170000
DTSTAMP:20260424T222324Z
UID:d5d61bf2842d42eb97ad59465b5de517@www.uni-marburg.de
CREATED:20241007T142715Z
DESCRIPTION:https://www.uni-marburg.de/de/universitaet/lehre/studienstrukt
 ur/marskills/aktuelle/termine/oe-wise-2024-25-was-ist-dieses-marskills-eig
 entlich\nOffene Sprechstunde im Rahmen der Einführungswoche WiSe 2024/25 
 rund um Fragen zum MarSkills Studienbereich
LAST-MODIFIED:20241014T144240Z
LOCATION:Deutschhausstr. 3\, Raum -A101 (-1/1010)
URL:https://www.uni-marburg.de/de/universitaet/lehre/studienstruktur/marsk
 ills/aktuelle/termine/oe-wise-2024-25-was-ist-dieses-marskills-eigentlich
END:VEVENT
BEGIN:VTIMEZONE
TZID:Europe/Berlin
X-LIC-LOCATION:Europe/Berlin
BEGIN:DAYLIGHT
DTSTART:20240331T030000
TZNAME:CEST
TZOFFSETFROM:+0100
TZOFFSETTO:+0200
END:DAYLIGHT
END:VTIMEZONE
END:VCALENDAR
