BEGIN:VCALENDAR
VERSION:2.0
PRODID:-//Plone.org//NONSGML plone.app.event//EN
X-WR-TIMEZONE:Europe/Berlin
BEGIN:VEVENT
SUMMARY:Projektideen Marburg Modul – austauschen\, kooperieren\, entwick
 eln
DTSTART;TZID=Europe/Berlin:20220714T123000
DTEND;TZID=Europe/Berlin:20220714T133000
DTSTAMP:20260424T232021Z
UID:35605f2a1dbc4627a17b46e062682833@www.uni-marburg.de
CREATED:20220628T100955Z
DESCRIPTION:https://www.uni-marburg.de/de/universitaet/lehre/studienstrukt
 ur/marskills/aktuelle/termine/projektideen-marburg-modul-austauschen-koope
 rieren-entwickeln\n
LAST-MODIFIED:20241014T144239Z
LOCATION:digital: https://webconf.hrz.uni-marburg.de/b/kat-ixp-l8u-rp9
URL:https://www.uni-marburg.de/de/universitaet/lehre/studienstruktur/marsk
 ills/aktuelle/termine/projektideen-marburg-modul-austauschen-kooperieren-e
 ntwickeln
END:VEVENT
BEGIN:VTIMEZONE
TZID:Europe/Berlin
X-LIC-LOCATION:Europe/Berlin
BEGIN:DAYLIGHT
DTSTART:20220327T030000
TZNAME:CEST
TZOFFSETFROM:+0100
TZOFFSETTO:+0200
END:DAYLIGHT
END:VTIMEZONE
END:VCALENDAR
