BEGIN:VCALENDAR
VERSION:2.0
PRODID:-//Plone.org//NONSGML plone.app.event//EN
X-WR-TIMEZONE:Europe/Berlin
BEGIN:VEVENT
SUMMARY:Offene Sprechstunde MarSkills
DTSTART;TZID=Europe/Berlin:20260326T110000
DTEND;TZID=Europe/Berlin:20260326T140000
DTSTAMP:20260425T045503Z
UID:1e004c684a4b4f2babd529ee2d4b7113@www.uni-marburg.de
RRULE:FREQ=WEEKLY;UNTIL=20260828T000000;BYDAY=TH
CATEGORIES:()
CREATED:20260324T155356Z
DESCRIPTION:https://www.uni-marburg.de/de/universitaet/lehre/studienstrukt
 ur/marskills/aktuelle/termine/sprechstunde-anerkennungen-marskills\nSprech
 stunde Anerkennungen und generelle Anliegen MarSkills
LAST-MODIFIED:20260415T140640Z
LOCATION:Deutschhausstr. 3\, Raum A215 bzw. +2/1150
URL:https://www.uni-marburg.de/de/universitaet/lehre/studienstruktur/marsk
 ills/aktuelle/termine/sprechstunde-anerkennungen-marskills
END:VEVENT
BEGIN:VTIMEZONE
TZID:Europe/Berlin
X-LIC-LOCATION:Europe/Berlin
BEGIN:DAYLIGHT
DTSTART:20260329T030000
TZNAME:CEST
TZOFFSETFROM:+0100
TZOFFSETTO:+0200
END:DAYLIGHT
END:VTIMEZONE
END:VCALENDAR
