BEGIN:VCALENDAR
VERSION:2.0
PRODID:-//Plone.org//NONSGML plone.app.event//EN
X-WR-TIMEZONE:Europe/Berlin
BEGIN:VEVENT
SUMMARY:Studium Generale zum Klimawandel: Lehrveranstaltungsanmeldung für
  Studierende des 8-semestrigen Kombi-Bachelors
DTSTART;VALUE=DATE:20251003
DTEND;VALUE=DATE:20251025
DTSTAMP:20260424T192138Z
UID:d468ba82558f4a80b48bdc456ad878e7@www.uni-marburg.de
CATEGORIES:()
CREATED:20251021T120059Z
DESCRIPTION:https://www.uni-marburg.de/de/universitaet/lehre/studienstrukt
 ur/marskills/aktuelle/termine/studium-generale-zum-klimawandel\nDas Studiu
 m Generale des Wintersemesters 2025/26 trägt den Titel „Resilienz in de
 r 2\,5°C Welt. Wie wir uns auf die Folgen der Klimakrise vorbereiten“. 
 Studierende\, Lehrende und Interessierte können hier verschiedene Forschu
 ngsperspektiven auf die Auswirkungen des Klimawandels kennenlernen. Die Vo
 rträge finden mittwochs um 18-20 Uhr c.t. statt. In 14 Vorträgen erwarte
 n Euch spannende Einblicke von Fachpersonen aus der Klima- und Nachhaltigk
 eitsforschung zu ökologischen und sozialen Ansätzen\, wie wir mit der Kl
 imakrise umgehen können. Eine Vortragsreihe für unsere Zukunft!
LAST-MODIFIED:20251021T122821Z
LOCATION:Marvin: https://uni-marburg.de/QYbl0U
URL:https://www.uni-marburg.de/de/universitaet/lehre/studienstruktur/marsk
 ills/aktuelle/termine/studium-generale-zum-klimawandel
END:VEVENT
END:VCALENDAR
