BEGIN:VCALENDAR
VERSION:2.0
PRODID:-//Plone.org//NONSGML plone.app.event//EN
X-WR-TIMEZONE:Europe/Berlin
BEGIN:VEVENT
SUMMARY:TURN Conference 2022
DTSTART;VALUE=DATE:20221103
DTEND;VALUE=DATE:20221105
DTSTAMP:20260424T113242Z
UID:71d7b23feaf04e9bb19f0cccef3dc6c6@www.uni-marburg.de
CREATED:20220307T151539Z
DESCRIPTION:https://www.uni-marburg.de/de/universitaet/lehre/studienstrukt
 ur/marskills/aktuelle/termine/turn-conference-2022\nDie TURN Conference–
 Reihe ist eine jährliche Austauschmöglichkeit zum Thema Lehren und Lerne
 n.\n\nTURN steht für Perspektivwechsel\, Mut zur Veränderung\, Offenheit
  und Aufbruch. Initiiert wurde die Tagungsreihe\, deren Auftakt vom 3. bis
  4. November 2022 in Kiel stattfindet\, von der Stiftung Innovation in der
  Hochschullehre\, die auch die finanzielle Förderung übernimmt.
LAST-MODIFIED:20241014T144239Z
LOCATION:Kiel
URL:https://www.uni-marburg.de/de/universitaet/lehre/studienstruktur/marsk
 ills/aktuelle/termine/turn-conference-2022
END:VEVENT
END:VCALENDAR
