BEGIN:VCALENDAR
VERSION:2.0
PRODID:-//Plone.org//NONSGML plone.app.event//EN
X-WR-TIMEZONE:Europe/Berlin
BEGIN:VEVENT
SUMMARY:Werkstatt ChatGPT
DTSTART;TZID=Europe/Berlin:20230601T140000
DTEND;TZID=Europe/Berlin:20230601T160000
DTSTAMP:20260422T001524Z
UID:c560930c8bbf4e27b76b687b43aebad1@www.uni-marburg.de
ATTENDEE;CN="Sophia Hercher und Dr. Katja Franz";ROLE=REQ-PARTICIPANT:Soph
 ia Hercher und Dr. Katja Franz
CREATED:20230511T113658Z
DESCRIPTION:https://www.uni-marburg.de/de/universitaet/lehre/studienstrukt
 ur/marskills/aktuelle/termine/werkstatt-chatgpt\n
LAST-MODIFIED:20241014T144239Z
LOCATION:online
URL:https://www.uni-marburg.de/de/universitaet/lehre/studienstruktur/marsk
 ills/aktuelle/termine/werkstatt-chatgpt
END:VEVENT
BEGIN:VTIMEZONE
TZID:Europe/Berlin
X-LIC-LOCATION:Europe/Berlin
BEGIN:DAYLIGHT
DTSTART:20230326T030000
TZNAME:CEST
TZOFFSETFROM:+0100
TZOFFSETTO:+0200
END:DAYLIGHT
END:VTIMEZONE
END:VCALENDAR
