BEGIN:VCALENDAR
VERSION:2.0
PRODID:-//Plone.org//NONSGML plone.app.event//EN
X-WR-TIMEZONE:Europe/Berlin
BEGIN:VEVENT
SUMMARY:Peer-to-Peer Sprechstunde für Studierende im WiSe 2021/22
DTSTART;TZID=Europe/Berlin:20211014T160000
DTEND;TZID=Europe/Berlin:20211014T170000
DTSTAMP:20260425T172623Z
UID:7f741a5878de4199a800d5dac39e9bdb@www.uni-marburg.de
RRULE:FREQ=WEEKLY;UNTIL=20220218T000000;BYDAY=TU,TH
CREATED:20210414T142810Z
DESCRIPTION:https://www.uni-marburg.de/de/universitaet/lehre/zukunftswerks
 tatt/aktuelles-1/termine/peer-to-peer-sprechstunde-fuer-studierende-im-sos
 e-2021\n
LAST-MODIFIED:20211014T093935Z
LOCATION:Online-Veranstaltung\, BigBlueButton
URL:https://www.uni-marburg.de/de/universitaet/lehre/zukunftswerkstatt/akt
 uelles-1/termine/peer-to-peer-sprechstunde-fuer-studierende-im-sose-2021
END:VEVENT
BEGIN:VTIMEZONE
TZID:Europe/Berlin
X-LIC-LOCATION:Europe/Berlin
BEGIN:DAYLIGHT
DTSTART:20210328T030000
TZNAME:CEST
TZOFFSETFROM:+0100
TZOFFSETTO:+0200
END:DAYLIGHT
END:VTIMEZONE
END:VCALENDAR
