BEGIN:VCALENDAR
VERSION:2.0
PRODID:-//Plone.org//NONSGML plone.app.event//EN
X-WR-TIMEZONE:Europe/Berlin
BEGIN:VEVENT
SUMMARY:Wie wollen wir MIT KLIMARISIKEN UMGEHEN?
DTSTART;TZID=Europe/Berlin:20240612T180000
DTEND;TZID=Europe/Berlin:20240612T200000
DTSTAMP:20260426T061816Z
UID:2a1dd511b009423c9f7106d878aac20b@www.uni-marburg.de
ATTENDEE;CN="Dr. Thomas Krismer (Munich Re)";ROLE=REQ-PARTICIPANT:Dr. Thom
 as Krismer (Munich Re)
CREATED:20240415T151549Z
DESCRIPTION:https://www.uni-marburg.de/de/universitaet/profil/universitaet
 skultur/nachhaltigkeit/green-office/termine/studium-generale-sommersemeste
 r-2024/wie-wollen-wir-mit-klimarisiken-umgehen\n"Schäden durch Extremwett
 er: Die aktuelle Lage im historischen Kontext und Ausblick unter dem Klima
 wandel" - Dr. Thomas Krismer
LAST-MODIFIED:20240415T160117Z
LOCATION:Vortragsraum der UB\, Deutschhausstraße 9
URL:https://www.uni-marburg.de/de/universitaet/profil/universitaetskultur/
 nachhaltigkeit/green-office/termine/studium-generale-sommersemester-2024/w
 ie-wollen-wir-mit-klimarisiken-umgehen
END:VEVENT
BEGIN:VTIMEZONE
TZID:Europe/Berlin
X-LIC-LOCATION:Europe/Berlin
BEGIN:DAYLIGHT
DTSTART:20240331T030000
TZNAME:CEST
TZOFFSETFROM:+0100
TZOFFSETTO:+0200
END:DAYLIGHT
END:VTIMEZONE
END:VCALENDAR
