BEGIN:VCALENDAR
VERSION:2.0
PRODID:-//Plone.org//NONSGML plone.app.event//EN
X-WR-TIMEZONE:Europe/Berlin
BEGIN:VEVENT
SUMMARY:Wie wollen wir MIT WASSER UMGEHEN?
DTSTART;TZID=Europe/Berlin:20240508T180000
DTEND;TZID=Europe/Berlin:20240508T200000
DTSTAMP:20260426T042037Z
UID:5bdbcbcc5d21481c9a4c0f29a1ccf6a7@www.uni-marburg.de
CREATED:20240415T144636Z
DESCRIPTION:https://www.uni-marburg.de/de/universitaet/profil/universitaet
 skultur/nachhaltigkeit/green-office/termine/studium-generale-sommersemeste
 r-2024/wie-wollen-wir-mit-wasser-umgehen\n"The Worlds of Water in Columbia
 : Conflicts\, Challenges and Opportunities" - Lorena Aja Eslava\n& \n"Wate
 r - Source of Future Conflict in Germany?" - Prof. Dr. Peter Chifflard
LAST-MODIFIED:20240415T161320Z
LOCATION:Vortragsraum der UB\, Deutschhausstraße 9
URL:https://www.uni-marburg.de/de/universitaet/profil/universitaetskultur/
 nachhaltigkeit/green-office/termine/studium-generale-sommersemester-2024/w
 ie-wollen-wir-mit-wasser-umgehen
END:VEVENT
BEGIN:VTIMEZONE
TZID:Europe/Berlin
X-LIC-LOCATION:Europe/Berlin
BEGIN:DAYLIGHT
DTSTART:20240331T030000
TZNAME:CEST
TZOFFSETFROM:+0100
TZOFFSETTO:+0200
END:DAYLIGHT
END:VTIMEZONE
END:VCALENDAR
