BEGIN:VCALENDAR
VERSION:2.0
PRODID:-//Plone.org//NONSGML plone.app.event//EN
X-WR-TIMEZONE:Europe/Berlin
BEGIN:VEVENT
SUMMARY:Wie wollen wir STÄDTE GESUND GESTALTEN?
DTSTART;TZID=Europe/Berlin:20240710T180000
DTEND;TZID=Europe/Berlin:20240710T200000
DTSTAMP:20260426T045228Z
UID:aa7f8162fdbb44e5be66811007945fa1@www.uni-marburg.de
ATTENDEE;CN="Prof. Dr. Dipl. Psych. Ulrike Kluge (Humboldt-Universität zu
  Berlin)";ROLE=REQ-PARTICIPANT:Prof. Dr. Dipl. Psych. Ulrike Kluge (Humbol
 dt-Universität zu Berlin)
CREATED:20240415T154135Z
DESCRIPTION:https://www.uni-marburg.de/de/universitaet/profil/universitaet
 skultur/nachhaltigkeit/green-office/termine/studium-generale-sommersemeste
 r-2024/wie-wollen-wir-staedte-gesund-gestalten\n"Urbanicity and mental hea
 lth. Inter- and transdisciplinary approach in research and practice" - Pro
 f. Dr. Dipl. Psych. Ulrike Kluge
LAST-MODIFIED:20240415T155101Z
LOCATION:Vortragsraum der UB\, Deutschhausstraße 9
URL:https://www.uni-marburg.de/de/universitaet/profil/universitaetskultur/
 nachhaltigkeit/green-office/termine/studium-generale-sommersemester-2024/w
 ie-wollen-wir-staedte-gesund-gestalten
END:VEVENT
BEGIN:VTIMEZONE
TZID:Europe/Berlin
X-LIC-LOCATION:Europe/Berlin
BEGIN:DAYLIGHT
DTSTART:20240331T030000
TZNAME:CEST
TZOFFSETFROM:+0100
TZOFFSETTO:+0200
END:DAYLIGHT
END:VTIMEZONE
END:VCALENDAR
