BEGIN:VCALENDAR
VERSION:2.0
PRODID:-//Plone.org//NONSGML plone.app.event//EN
X-WR-TIMEZONE:Europe/Berlin
BEGIN:VEVENT
SUMMARY:5. Marburger Forum für Unterrichts- und Schulentwicklung (06.03.2
 025)
DTSTART;TZID=Europe/Berlin:20250306T090000
DTEND;TZID=Europe/Berlin:20250306T163000
DTSTAMP:20260424T143444Z
UID:f952181ac8f04012ab5c20e98f90ca3d@www.uni-marburg.de
CREATED:20241204T100037Z
DESCRIPTION:https://www.uni-marburg.de/de/zfl/aktuelles/termine/5-marburge
 r-forum-fuer-unterrichts-und-schulentwicklung-06-03-2025\n
LAST-MODIFIED:20241218T095249Z
LOCATION:Tagungsraum der Zentralen Universitätsbibliothek (ZUB) Deutschha
 usstraße 9 / 35037 Marburg
URL:https://www.uni-marburg.de/de/zfl/aktuelles/termine/5-marburger-forum-
 fuer-unterrichts-und-schulentwicklung-06-03-2025
END:VEVENT
BEGIN:VTIMEZONE
TZID:Europe/Berlin
X-LIC-LOCATION:Europe/Berlin
BEGIN:STANDARD
DTSTART:20241027T020000
TZNAME:CET
TZOFFSETFROM:+0200
TZOFFSETTO:+0100
END:STANDARD
END:VTIMEZONE
END:VCALENDAR
