BEGIN:VCALENDAR
VERSION:2.0
PRODID:-//Plone.org//NONSGML plone.app.event//EN
X-WR-TIMEZONE:Europe/Berlin
BEGIN:VEVENT
SUMMARY:Arbeitstricks im Homeoffice / Homeschooling
DTSTART;TZID=Europe/Berlin:20200512T170000
DTEND;TZID=Europe/Berlin:20200512T180000
DTSTAMP:20260421T122423Z
UID:0419b85c7c374f70806e853e4649f0f7@www.uni-marburg.de
ATTENDEE;CN="Albrecht Metzler und Gerda Mittag";ROLE=REQ-PARTICIPANT:Albre
 cht Metzler und Gerda Mittag
CREATED:20200429T051709Z
DESCRIPTION:https://www.uni-marburg.de/de/zfl/aktuelles/termine/arbeitstri
 cks-im-homeoffice-homeschooling\n
LAST-MODIFIED:20200506T155521Z
LOCATION:Virtuelle Veranstaltung mit dem Tool CiscoWebex. Die Einladungsma
 il erhalten Sie nach der Anmeldung.
URL:https://www.uni-marburg.de/de/zfl/aktuelles/termine/arbeitstricks-im-h
 omeoffice-homeschooling
END:VEVENT
BEGIN:VTIMEZONE
TZID:Europe/Berlin
X-LIC-LOCATION:Europe/Berlin
BEGIN:DAYLIGHT
DTSTART:20200329T030000
TZNAME:CEST
TZOFFSETFROM:+0100
TZOFFSETTO:+0200
END:DAYLIGHT
END:VTIMEZONE
END:VCALENDAR
