BEGIN:VCALENDAR
VERSION:2.0
PRODID:-//Plone.org//NONSGML plone.app.event//EN
X-WR-TIMEZONE:Europe/Berlin
BEGIN:VEVENT
SUMMARY:Berufs- und Studienorientierung gestalten: Workshop mit ArbeiterKi
 nd.de
DTSTART;TZID=Europe/Berlin:20231122T143000
DTEND;TZID=Europe/Berlin:20231122T173000
DTSTAMP:20260421T120233Z
UID:d3d35503df3345c0b4f83a909218de3f@www.uni-marburg.de
ATTENDEE;CN="Lamia Chérif";ROLE=REQ-PARTICIPANT:Lamia Chérif
CREATED:20230702T170208Z
DESCRIPTION:https://www.uni-marburg.de/de/zfl/aktuelles/termine/berufs-und
 -studienorientierung-gestalten\n
LAST-MODIFIED:20230703T141229Z
LOCATION:Digital
URL:https://www.uni-marburg.de/de/zfl/aktuelles/termine/berufs-und-studien
 orientierung-gestalten
END:VEVENT
BEGIN:VTIMEZONE
TZID:Europe/Berlin
X-LIC-LOCATION:Europe/Berlin
BEGIN:STANDARD
DTSTART:20231029T020000
TZNAME:CET
TZOFFSETFROM:+0200
TZOFFSETTO:+0100
END:STANDARD
END:VTIMEZONE
END:VCALENDAR
