BEGIN:VCALENDAR
VERSION:2.0
PRODID:-//Plone.org//NONSGML plone.app.event//EN
X-WR-TIMEZONE:Europe/Berlin
BEGIN:VEVENT
SUMMARY:Bildungsgerechtigkeit im Homeschooling angesichts unterschiedliche
 r Voraussetzungen der Schüler/innen
DTSTART;TZID=Europe/Berlin:20200604T140000
DTEND;TZID=Europe/Berlin:20200604T150000
DTSTAMP:20260421T120232Z
UID:6f93c617a3244821b1812d51bf616342@www.uni-marburg.de
ATTENDEE;CN="Albrecht Metzler und Gerda Mittag";ROLE=REQ-PARTICIPANT:Albre
 cht Metzler und Gerda Mittag
CREATED:20200429T051709Z
DESCRIPTION:https://www.uni-marburg.de/de/zfl/aktuelles/termine/bildungsge
 rechtigkeit-im-homeschooling\n
LAST-MODIFIED:20200506T155244Z
LOCATION:Virtuelle Veranstaltung mit dem Tool CiscoWebex. Die Einladungsma
 il erhalten Sie nach der Anmeldung.
URL:https://www.uni-marburg.de/de/zfl/aktuelles/termine/bildungsgerechtigk
 eit-im-homeschooling
END:VEVENT
BEGIN:VTIMEZONE
TZID:Europe/Berlin
X-LIC-LOCATION:Europe/Berlin
BEGIN:DAYLIGHT
DTSTART:20200329T030000
TZNAME:CEST
TZOFFSETFROM:+0100
TZOFFSETTO:+0200
END:DAYLIGHT
END:VTIMEZONE
END:VCALENDAR
