BEGIN:VCALENDAR
VERSION:2.0
PRODID:-//Plone.org//NONSGML plone.app.event//EN
X-WR-TIMEZONE:Europe/Berlin
BEGIN:VEVENT
SUMMARY:Binnendifferenzierung durch Entwicklung und Einsatz von Lernaufgab
 en  in den MINT-Fächern (30.01.2020)
DTSTART;TZID=Europe/Berlin:20200130T140000
DTEND;TZID=Europe/Berlin:20200130T180000
DTSTAMP:20260424T041530Z
UID:846f542713564ebfadc19204e95fdc8e@www.uni-marburg.de
ATTENDEE;CN="Dr. Marion Lange";ROLE=REQ-PARTICIPANT:Dr. Marion Lange
CREATED:20190813T110726Z
DESCRIPTION:https://www.uni-marburg.de/de/zfl/aktuelles/termine/binnendiff
 erenzierung-durch-entwicklung-und-einsatz-von-lernaufgaben-in-den-mint-fae
 chern\n
LAST-MODIFIED:20200106T101855Z
LOCATION:Philipps-Universität Marburg\, Deutscher Sprachatlas\, Pilgrimst
 ein 16\, Raum 102
URL:https://www.uni-marburg.de/de/zfl/aktuelles/termine/binnendifferenzier
 ung-durch-entwicklung-und-einsatz-von-lernaufgaben-in-den-mint-faechern
END:VEVENT
BEGIN:VTIMEZONE
TZID:Europe/Berlin
X-LIC-LOCATION:Europe/Berlin
BEGIN:STANDARD
DTSTART:20191027T020000
TZNAME:CET
TZOFFSETFROM:+0200
TZOFFSETTO:+0100
END:STANDARD
END:VTIMEZONE
END:VCALENDAR
