BEGIN:VCALENDAR
VERSION:2.0
PRODID:-//Plone.org//NONSGML plone.app.event//EN
X-WR-TIMEZONE:Europe/Berlin
BEGIN:VEVENT
SUMMARY:Critical Approaches in Language Teaching - Fremdsprachenunterricht
  modern und innovativ gestalten
DTSTART;TZID=Europe/Berlin:20200123T150000
DTEND;TZID=Europe/Berlin:20200123T180000
DTSTAMP:20260423T030429Z
UID:06447e66e9e448878d2880b1c7856247@www.uni-marburg.de
ATTENDEE;CN="Dr. habil. David Gerlach";ROLE=REQ-PARTICIPANT:Dr. habil. Dav
 id Gerlach
CREATED:20190917T101647Z
DESCRIPTION:https://www.uni-marburg.de/de/zfl/aktuelles/termine/critical-a
 pproaches-in-language-teaching-23-01-30-01-13-02-2020\nFortbildungsreihe a
 m 23.01. und 30.01. sowie 13.02.2020
LAST-MODIFIED:20200106T102047Z
LOCATION:Philipps-Universität Marburg\, Zentrum für Lehrerbildung\, Buns
 enstraße 2\, Konferenzraum 00C03
URL:https://www.uni-marburg.de/de/zfl/aktuelles/termine/critical-approache
 s-in-language-teaching-23-01-30-01-13-02-2020
END:VEVENT
BEGIN:VTIMEZONE
TZID:Europe/Berlin
X-LIC-LOCATION:Europe/Berlin
BEGIN:STANDARD
DTSTART:20191027T020000
TZNAME:CET
TZOFFSETFROM:+0200
TZOFFSETTO:+0100
END:STANDARD
END:VTIMEZONE
END:VCALENDAR
