BEGIN:VCALENDAR
VERSION:2.0
PRODID:-//Plone.org//NONSGML plone.app.event//EN
X-WR-TIMEZONE:Europe/Berlin
BEGIN:VEVENT
SUMMARY:Die Betzavta Methode - demokratisch miteinander handeln (2. und 3.
 06.2020\, jeweils von 16.00 bis 18:00 Uhr)
DTSTART;TZID=Europe/Berlin:20200602T160000
DTEND;TZID=Europe/Berlin:20200603T180000
DTSTAMP:20260421T122703Z
UID:76c44b52a900425f82f7a62302e8ea14@www.uni-marburg.de
ATTENDEE;CN="Lisa Hartke";ROLE=REQ-PARTICIPANT:Lisa Hartke
CREATED:20200429T051709Z
DESCRIPTION:https://www.uni-marburg.de/de/zfl/aktuelles/termine/die-betzav
 ta-methode-vierstuendig-2-und-3-juni-2020\n
LAST-MODIFIED:20200507T134609Z
LOCATION:Virtuelle Veranstaltung im Tool Big Blue Button. Die Einladungsma
 il erhalten Sie nach der Anmeldung.
URL:https://www.uni-marburg.de/de/zfl/aktuelles/termine/die-betzavta-metho
 de-vierstuendig-2-und-3-juni-2020
END:VEVENT
BEGIN:VTIMEZONE
TZID:Europe/Berlin
X-LIC-LOCATION:Europe/Berlin
BEGIN:DAYLIGHT
DTSTART:20200329T030000
TZNAME:CEST
TZOFFSETFROM:+0100
TZOFFSETTO:+0200
END:DAYLIGHT
END:VTIMEZONE
END:VCALENDAR
