BEGIN:VCALENDAR
VERSION:2.0
PRODID:-//Plone.org//NONSGML plone.app.event//EN
X-WR-TIMEZONE:Europe/Berlin
BEGIN:VEVENT
SUMMARY:Einsatz von interaktiven Whiteboards im Chemieunterricht (19.11.20
 19)
DTSTART;TZID=Europe/Berlin:20191119T140000
DTEND;TZID=Europe/Berlin:20191119T180000
DTSTAMP:20260424T133023Z
UID:ecf55388b3d14f47879213f8f62788c7@www.uni-marburg.de
ATTENDEE;CN="Dr. P. Reiß";ROLE=REQ-PARTICIPANT:Dr. P. Reiß
CREATED:20190909T123444Z
DESCRIPTION:https://www.uni-marburg.de/de/zfl/aktuelles/termine/einsatz-vo
 n-interaktiven-whiteboards-im-chemieunterricht-19-11-2019\n
LAST-MODIFIED:20191119T071002Z
LOCATION:Philipps-Universität Marburg\, Deutschhausstr. 12\, Raum 00A16
URL:https://www.uni-marburg.de/de/zfl/aktuelles/termine/einsatz-von-intera
 ktiven-whiteboards-im-chemieunterricht-19-11-2019
END:VEVENT
BEGIN:VTIMEZONE
TZID:Europe/Berlin
X-LIC-LOCATION:Europe/Berlin
BEGIN:STANDARD
DTSTART:20191027T020000
TZNAME:CET
TZOFFSETFROM:+0200
TZOFFSETTO:+0100
END:STANDARD
END:VTIMEZONE
END:VCALENDAR
