BEGIN:VCALENDAR
VERSION:2.0
PRODID:-//Plone.org//NONSGML plone.app.event//EN
X-WR-TIMEZONE:Europe/Berlin
BEGIN:VEVENT
SUMMARY:Eltern\, Lehrer/innen und Schüler/innen im rechtlichen Konflikt
DTSTART;TZID=Europe/Berlin:20210922T160000
DTEND;TZID=Europe/Berlin:20210922T180000
DTSTAMP:20260425T032619Z
UID:3a27029f32a3456182e136de97b3a22b@www.uni-marburg.de
RRULE:FREQ=DAILY;COUNT=2
ATTENDEE;CN="Dr. Stephan Klenner";ROLE=REQ-PARTICIPANT:Dr. Stephan Klenner
CREATED:20210617T143023Z
DESCRIPTION:https://www.uni-marburg.de/de/zfl/aktuelles/termine/eltern-leh
 rer-innen-und-schueler-innen-im-rechtlichen-konflikt\n
LAST-MODIFIED:20210628T061144Z
LOCATION:virtuell
URL:https://www.uni-marburg.de/de/zfl/aktuelles/termine/eltern-lehrer-inne
 n-und-schueler-innen-im-rechtlichen-konflikt
END:VEVENT
BEGIN:VTIMEZONE
TZID:Europe/Berlin
X-LIC-LOCATION:Europe/Berlin
BEGIN:DAYLIGHT
DTSTART:20210328T030000
TZNAME:CEST
TZOFFSETFROM:+0100
TZOFFSETTO:+0200
END:DAYLIGHT
END:VTIMEZONE
END:VCALENDAR
