BEGIN:VCALENDAR
VERSION:2.0
PRODID:-//Plone.org//NONSGML plone.app.event//EN
X-WR-TIMEZONE:Europe/Berlin
BEGIN:VEVENT
SUMMARY:Entwicklung der Bildungssprache durch sprachsensiblen Fachunterric
 ht  in den MINT-Fächern (31.10.2019)
DTSTART;TZID=Europe/Berlin:20191031T140000
DTEND;TZID=Europe/Berlin:20191031T180000
DTSTAMP:20260424T143308Z
UID:bcd8e7350ce64794b3f33855c86eae1b@www.uni-marburg.de
ATTENDEE;CN="Dr. Marion Lange";ROLE=REQ-PARTICIPANT:Dr. Marion Lange
CREATED:20190813T093650Z
DESCRIPTION:https://www.uni-marburg.de/de/zfl/aktuelles/termine/entwicklun
 g-der-bildungssprache-durch-sprachsensiblen-fachunterricht-in-den-mint-fae
 chern\n
LAST-MODIFIED:20190912T111627Z
LOCATION:Philipps-Universität Marburg\, Deutscher Sprachatlas\, Pilgrimst
 ein 16\,  Raum 102
URL:https://www.uni-marburg.de/de/zfl/aktuelles/termine/entwicklung-der-bi
 ldungssprache-durch-sprachsensiblen-fachunterricht-in-den-mint-faechern
END:VEVENT
BEGIN:VTIMEZONE
TZID:Europe/Berlin
X-LIC-LOCATION:Europe/Berlin
BEGIN:STANDARD
DTSTART:20191027T020000
TZNAME:CET
TZOFFSETFROM:+0200
TZOFFSETTO:+0100
END:STANDARD
END:VTIMEZONE
END:VCALENDAR
