BEGIN:VCALENDAR
VERSION:2.0
PRODID:-//Plone.org//NONSGML plone.app.event//EN
X-WR-TIMEZONE:Europe/Berlin
BEGIN:VEVENT
SUMMARY:Erklärvideos im Screencastformat erstellen
DTSTART;TZID=Europe/Berlin:20231116T143000
DTEND;TZID=Europe/Berlin:20231116T160000
DTSTAMP:20260421T124928Z
UID:36dc11ddd0fa49da8d98d65147a1b698@www.uni-marburg.de
ATTENDEE;CN="Carmen Bredol";ROLE=REQ-PARTICIPANT:Carmen Bredol
CREATED:20230111T181512Z
DESCRIPTION:https://www.uni-marburg.de/de/zfl/aktuelles/termine/erklaervid
 eos\n
LAST-MODIFIED:20231211T204630Z
LOCATION:Digital
URL:https://www.uni-marburg.de/de/zfl/aktuelles/termine/erklaervideos
END:VEVENT
BEGIN:VTIMEZONE
TZID:Europe/Berlin
X-LIC-LOCATION:Europe/Berlin
BEGIN:STANDARD
DTSTART:20231029T020000
TZNAME:CET
TZOFFSETFROM:+0200
TZOFFSETTO:+0100
END:STANDARD
END:VTIMEZONE
END:VCALENDAR
