BEGIN:VCALENDAR
VERSION:2.0
PRODID:-//Plone.org//NONSGML plone.app.event//EN
X-WR-TIMEZONE:Europe/Berlin
BEGIN:VEVENT
SUMMARY:Einführung in die mediengestützte Projektarbeit mit eTwinning
DTSTART;TZID=Europe/Berlin:20180424T151500
DTEND;TZID=Europe/Berlin:20180424T181500
DTSTAMP:20260421T121431Z
UID:2d75588872604b77a6765e93a79b6b43@www.uni-marburg.de
ATTENDEE;CN="Alicia Ellenberger";ROLE=REQ-PARTICIPANT:Alicia Ellenberger
CREATED:20180301T160318Z
DESCRIPTION:https://www.uni-marburg.de/de/zfl/aktuelles/termine/etwinning\
 n
LAST-MODIFIED:20180423T131917Z
LOCATION:Philipps-Universität Marburg\, Wilhelm-Röpke-Str. 6\, Raum 03C0
 1 (PC-Saal GWS-C)
URL:https://www.uni-marburg.de/de/zfl/aktuelles/termine/etwinning
END:VEVENT
BEGIN:VTIMEZONE
TZID:Europe/Berlin
X-LIC-LOCATION:Europe/Berlin
BEGIN:DAYLIGHT
DTSTART:20180325T030000
TZNAME:CEST
TZOFFSETFROM:+0100
TZOFFSETTO:+0200
END:DAYLIGHT
END:VTIMEZONE
END:VCALENDAR
