BEGIN:VCALENDAR
VERSION:2.0
PRODID:-//Plone.org//NONSGML plone.app.event//EN
X-WR-TIMEZONE:Europe/Berlin
BEGIN:VEVENT
SUMMARY:Wochenplan: Fake News
DTSTART;TZID=Europe/Berlin:20220426T160000
DTEND;TZID=Europe/Berlin:20220426T180000
DTSTAMP:20260424T051937Z
UID:b7c25a6d1925441ea2a3c58540acc689@www.uni-marburg.de
ATTENDEE;CN="Prof. Dr. A. Krewani";ROLE=REQ-PARTICIPANT:Prof. Dr. A. Krewa
 ni
CREATED:20201116T114809Z
DESCRIPTION:https://www.uni-marburg.de/de/zfl/aktuelles/termine/fake-news-
 und-social-media\n
LAST-MODIFIED:20220323T080315Z
LOCATION:virtuell
URL:https://www.uni-marburg.de/de/zfl/aktuelles/termine/fake-news-und-soci
 al-media
END:VEVENT
BEGIN:VTIMEZONE
TZID:Europe/Berlin
X-LIC-LOCATION:Europe/Berlin
BEGIN:DAYLIGHT
DTSTART:20220327T030000
TZNAME:CEST
TZOFFSETFROM:+0100
TZOFFSETTO:+0200
END:DAYLIGHT
END:VTIMEZONE
END:VCALENDAR
