BEGIN:VCALENDAR
VERSION:2.0
PRODID:-//Plone.org//NONSGML plone.app.event//EN
X-WR-TIMEZONE:Europe/Berlin
BEGIN:VEVENT
SUMMARY:Mehr Gelassenheit im Homeschooling / Homeoffice
DTSTART;TZID=Europe/Berlin:20200615T160000
DTEND;TZID=Europe/Berlin:20200615T170000
DTSTAMP:20260421T123547Z
UID:00628e224a5a4c4399c332a5187e0ae6@www.uni-marburg.de
ATTENDEE;CN="Dominique Roitzsch-Pröhl und Laura Lübke";ROLE=REQ-PARTICIP
 ANT:Dominique Roitzsch-Pröhl und Laura Lübke
CREATED:20200525T034343Z
DESCRIPTION:https://www.uni-marburg.de/de/zfl/aktuelles/termine/gelassen-i
 m-homeschooling\n
LAST-MODIFIED:20200526T113114Z
LOCATION:Virtuelle Veranstaltung mit dem Tool CiscoWebex. Die Einladungsma
 il erhalten Sie nach der Anmeldung.
URL:https://www.uni-marburg.de/de/zfl/aktuelles/termine/gelassen-im-homesc
 hooling
END:VEVENT
BEGIN:VTIMEZONE
TZID:Europe/Berlin
X-LIC-LOCATION:Europe/Berlin
BEGIN:DAYLIGHT
DTSTART:20200329T030000
TZNAME:CEST
TZOFFSETFROM:+0100
TZOFFSETTO:+0200
END:DAYLIGHT
END:VTIMEZONE
END:VCALENDAR
