BEGIN:VCALENDAR
VERSION:2.0
PRODID:-//Plone.org//NONSGML plone.app.event//EN
X-WR-TIMEZONE:Europe/Berlin
BEGIN:VEVENT
SUMMARY:Genially: Ein Allround-Tool
DTSTART;TZID=Europe/Berlin:20230426T143000
DTEND;TZID=Europe/Berlin:20230426T160000
DTSTAMP:20260422T065632Z
UID:0944a2e37ab34815a6e7ebc6c6f6293b@www.uni-marburg.de
ATTENDEE;CN="Carmen Bredol";ROLE=REQ-PARTICIPANT:Carmen Bredol
CREATED:20230111T181512Z
DESCRIPTION:https://www.uni-marburg.de/de/zfl/aktuelles/termine/genially\n
LAST-MODIFIED:20230120T072522Z
LOCATION:Digital
URL:https://www.uni-marburg.de/de/zfl/aktuelles/termine/genially
END:VEVENT
BEGIN:VTIMEZONE
TZID:Europe/Berlin
X-LIC-LOCATION:Europe/Berlin
BEGIN:DAYLIGHT
DTSTART:20230326T030000
TZNAME:CEST
TZOFFSETFROM:+0100
TZOFFSETTO:+0200
END:DAYLIGHT
END:VTIMEZONE
END:VCALENDAR
