BEGIN:VCALENDAR
VERSION:2.0
PRODID:-//Plone.org//NONSGML plone.app.event//EN
X-WR-TIMEZONE:Europe/Berlin
BEGIN:VEVENT
SUMMARY:Geschichte des Fernsehens
DTSTART;TZID=Europe/Berlin:20171129T160000
DTEND;TZID=Europe/Berlin:20171129T180000
DTSTAMP:20260421T120438Z
UID:8d3e15d897a942bd8e325835a17b8aeb@www.uni-marburg.de
ATTENDEE;CN="Monika Weiß";ROLE=REQ-PARTICIPANT:Monika Weiß
CREATED:20171219T173432Z
DESCRIPTION:https://www.uni-marburg.de/de/zfl/aktuelles/termine/geschichte
 -des-fernsehens\nRingvorlesung „Medientheorie und Mediengeschichte für 
 zukünftige Lehrkräfte“
LAST-MODIFIED:20171219T173948Z
LOCATION:Philipps-Universität Marburg\, Wilhelm-Röpke-Str. 6\, Hörsaal 
 H
URL:https://www.uni-marburg.de/de/zfl/aktuelles/termine/geschichte-des-fer
 nsehens
END:VEVENT
BEGIN:VTIMEZONE
TZID:Europe/Berlin
X-LIC-LOCATION:Europe/Berlin
BEGIN:STANDARD
DTSTART:20171029T020000
TZNAME:CET
TZOFFSETFROM:+0200
TZOFFSETTO:+0100
END:STANDARD
END:VTIMEZONE
END:VCALENDAR
