BEGIN:VCALENDAR
VERSION:2.0
PRODID:-//Plone.org//NONSGML plone.app.event//EN
X-WR-TIMEZONE:Europe/Berlin
BEGIN:VEVENT
SUMMARY:Geschichte des fiktionalen Films
DTSTART;TZID=Europe/Berlin:20171115T160000
DTEND;TZID=Europe/Berlin:20171115T180000
DTSTAMP:20260421T121311Z
UID:12c4e0c791c04487b445a6e312825ad8@www.uni-marburg.de
ATTENDEE;CN="PD Dr. Burkhard Röwekamp";ROLE=REQ-PARTICIPANT:PD Dr. Burkha
 rd Röwekamp
CREATED:20171219T173432Z
DESCRIPTION:https://www.uni-marburg.de/de/zfl/aktuelles/termine/geschichte
 -des-fiktionalen-films\nRingvorlesung „Medientheorie und Mediengeschicht
 e für zukünftige Lehrkräfte“
LAST-MODIFIED:20171219T173824Z
LOCATION:Philipps-Universität Marburg\, Wilhelm-Röpke-Str. 6\, Hörsaal 
 H
URL:https://www.uni-marburg.de/de/zfl/aktuelles/termine/geschichte-des-fik
 tionalen-films
END:VEVENT
BEGIN:VTIMEZONE
TZID:Europe/Berlin
X-LIC-LOCATION:Europe/Berlin
BEGIN:STANDARD
DTSTART:20171029T020000
TZNAME:CET
TZOFFSETFROM:+0200
TZOFFSETTO:+0100
END:STANDARD
END:VTIMEZONE
END:VCALENDAR
