BEGIN:VCALENDAR
VERSION:2.0
PRODID:-//Plone.org//NONSGML plone.app.event//EN
X-WR-TIMEZONE:Europe/Berlin
BEGIN:VEVENT
SUMMARY:Geschichte digitaler Medien
DTSTART;TZID=Europe/Berlin:20171206T160000
DTEND;TZID=Europe/Berlin:20171206T180000
DTSTAMP:20260421T122920Z
UID:b4c7cef2b94248ac95b3fac6321e2871@www.uni-marburg.de
ATTENDEE;CN="Prof. Dr. Angela Krewani";ROLE=REQ-PARTICIPANT:Prof. Dr. Ange
 la Krewani
CREATED:20171219T173432Z
DESCRIPTION:https://www.uni-marburg.de/de/zfl/aktuelles/termine/geschichte
 -digitaler-medien\nRingvorlesung „Medientheorie und Mediengeschichte fü
 r zukünftige Lehrkräfte“
LAST-MODIFIED:20171219T174049Z
LOCATION:Philipps-Universität Marburg\, Wilhelm-Röpke-Str. 6\, Hörsaal 
 H
URL:https://www.uni-marburg.de/de/zfl/aktuelles/termine/geschichte-digital
 er-medien
END:VEVENT
BEGIN:VTIMEZONE
TZID:Europe/Berlin
X-LIC-LOCATION:Europe/Berlin
BEGIN:STANDARD
DTSTART:20171029T020000
TZNAME:CET
TZOFFSETFROM:+0200
TZOFFSETTO:+0100
END:STANDARD
END:VTIMEZONE
END:VCALENDAR
