BEGIN:VCALENDAR
VERSION:2.0
PRODID:-//Plone.org//NONSGML plone.app.event//EN
X-WR-TIMEZONE:Europe/Berlin
BEGIN:VEVENT
SUMMARY:Gewaltfreie Kommunikation nach Rosenberg im Kontext von Schule
DTSTART;TZID=Europe/Berlin:20201130T163000
DTEND;TZID=Europe/Berlin:20201130T173000
DTSTAMP:20260421T115314Z
UID:34f18c241df74e56976067bbf3b1d657@www.uni-marburg.de
ATTENDEE;CN="Silke Marx";ROLE=REQ-PARTICIPANT:Silke Marx
CREATED:20200722T100813Z
DESCRIPTION:https://www.uni-marburg.de/de/zfl/aktuelles/termine/gewaltfrei
 e-kommunikation-nach-rosenberg-im-kontext-von-schule\n
LAST-MODIFIED:20201110T112940Z
LOCATION:virtuelle Veranstaltung
URL:https://www.uni-marburg.de/de/zfl/aktuelles/termine/gewaltfreie-kommun
 ikation-nach-rosenberg-im-kontext-von-schule
END:VEVENT
BEGIN:VTIMEZONE
TZID:Europe/Berlin
X-LIC-LOCATION:Europe/Berlin
BEGIN:STANDARD
DTSTART:20201025T020000
TZNAME:CET
TZOFFSETFROM:+0200
TZOFFSETTO:+0100
END:STANDARD
END:VTIMEZONE
END:VCALENDAR
