BEGIN:VCALENDAR
VERSION:2.0
PRODID:-//Plone.org//NONSGML plone.app.event//EN
X-WR-TIMEZONE:Europe/Berlin
BEGIN:VEVENT
SUMMARY:GrammatikPro Kompetenztests
DTSTART;TZID=Europe/Berlin:20231010T160000
DTEND;TZID=Europe/Berlin:20231010T170000
DTSTAMP:20260421T123102Z
UID:4115c742f8f5418baeba1c2b5342c42a@www.uni-marburg.de
ATTENDEE;CN="Prof. Dr. Hanna Fischer";ROLE=REQ-PARTICIPANT:Prof. Dr. Hanna
  Fischer
CREATED:20230710T142452Z
DESCRIPTION:https://www.uni-marburg.de/de/zfl/aktuelles/termine/grammatikp
 ro-kompetenztests-1\n
LAST-MODIFIED:20230710T142506Z
LOCATION:virtuell
URL:https://www.uni-marburg.de/de/zfl/aktuelles/termine/grammatikpro-kompe
 tenztests-1
END:VEVENT
BEGIN:VTIMEZONE
TZID:Europe/Berlin
X-LIC-LOCATION:Europe/Berlin
BEGIN:DAYLIGHT
DTSTART:20230326T030000
TZNAME:CEST
TZOFFSETFROM:+0100
TZOFFSETTO:+0200
END:DAYLIGHT
END:VTIMEZONE
END:VCALENDAR
