BEGIN:VCALENDAR
VERSION:2.0
PRODID:-//Plone.org//NONSGML plone.app.event//EN
X-WR-TIMEZONE:Europe/Berlin
BEGIN:VEVENT
SUMMARY:Heldenreise
DTSTART;TZID=Europe/Berlin:20180226T140000
DTEND;TZID=Europe/Berlin:20180226T180000
DTSTAMP:20260421T112454Z
UID:6b3006edf17c42e6bbe9ee3b1392c90a@www.uni-marburg.de
ATTENDEE;CN="Vera Cuntz-Leng";ROLE=REQ-PARTICIPANT:Vera Cuntz-Leng
CREATED:20170921T161848Z
DESCRIPTION:https://www.uni-marburg.de/de/zfl/aktuelles/termine/heldenreis
 e-1718\nWorkshop im Rahmen des Portfolios Medienbildungskompetenz
LAST-MODIFIED:20180122T134607Z
LOCATION:Philipps-Universität Marburg\, Wilhelm-Röpke-Straße 6A\, Raum 
 08A07
URL:https://www.uni-marburg.de/de/zfl/aktuelles/termine/heldenreise-1718
END:VEVENT
BEGIN:VTIMEZONE
TZID:Europe/Berlin
X-LIC-LOCATION:Europe/Berlin
BEGIN:STANDARD
DTSTART:20171029T020000
TZNAME:CET
TZOFFSETFROM:+0200
TZOFFSETTO:+0100
END:STANDARD
END:VTIMEZONE
END:VCALENDAR
