BEGIN:VCALENDAR
VERSION:2.0
PRODID:-//Plone.org//NONSGML plone.app.event//EN
X-WR-TIMEZONE:Europe/Berlin
BEGIN:VEVENT
SUMMARY:Heldenreise
DTSTART;TZID=Europe/Berlin:20190603T140000
DTEND;TZID=Europe/Berlin:20190603T180000
DTSTAMP:20260421T212908Z
UID:7b4b5978e91b452f8835d6a3d7ac97b0@www.uni-marburg.de
ATTENDEE;CN="Vera Cuntz-Leng";ROLE=REQ-PARTICIPANT:Vera Cuntz-Leng
CREATED:20170921T161848Z
DESCRIPTION:https://www.uni-marburg.de/de/zfl/aktuelles/termine/heldenreis
 e-19\nAnalyse eines beliebten Erzählmusters
LAST-MODIFIED:20190430T121923Z
LOCATION:Philipps-Universität Marburg\, Deutschhausstraße 12 (CNMS)\, Ra
 um 01A25
URL:https://www.uni-marburg.de/de/zfl/aktuelles/termine/heldenreise-19
END:VEVENT
BEGIN:VTIMEZONE
TZID:Europe/Berlin
X-LIC-LOCATION:Europe/Berlin
BEGIN:DAYLIGHT
DTSTART:20190331T030000
TZNAME:CEST
TZOFFSETFROM:+0100
TZOFFSETTO:+0200
END:DAYLIGHT
END:VTIMEZONE
END:VCALENDAR
