BEGIN:VCALENDAR
VERSION:2.0
PRODID:-//Plone.org//NONSGML plone.app.event//EN
X-WR-TIMEZONE:Europe/Berlin
BEGIN:VEVENT
SUMMARY:IT-Sicherheit im Homeschooling
DTSTART;TZID=Europe/Berlin:20200511T110000
DTEND;TZID=Europe/Berlin:20200511T120000
DTSTAMP:20260421T121151Z
UID:74615f80024c4521a776e0d298d5110a@www.uni-marburg.de
ATTENDEE;CN="Albrecht Metzler";ROLE=REQ-PARTICIPANT:Albrecht Metzler
CREATED:20200429T051709Z
DESCRIPTION:https://www.uni-marburg.de/de/zfl/aktuelles/termine/it-sicherh
 eit-im-homeschooling\n
LAST-MODIFIED:20200506T155400Z
LOCATION:Virtuelle Veranstaltung mit dem Tool CiscoWebex. Die Einladungsma
 il erhalten Sie nach der Anmeldung.
URL:https://www.uni-marburg.de/de/zfl/aktuelles/termine/it-sicherheit-im-h
 omeschooling
END:VEVENT
BEGIN:VTIMEZONE
TZID:Europe/Berlin
X-LIC-LOCATION:Europe/Berlin
BEGIN:DAYLIGHT
DTSTART:20200329T030000
TZNAME:CEST
TZOFFSETFROM:+0100
TZOFFSETTO:+0200
END:DAYLIGHT
END:VTIMEZONE
END:VCALENDAR
