BEGIN:VCALENDAR
VERSION:2.0
PRODID:-//Plone.org//NONSGML plone.app.event//EN
X-WR-TIMEZONE:Europe/Berlin
BEGIN:VEVENT
SUMMARY:Keine Angst vor Wikipedia
DTSTART;TZID=Europe/Berlin:20170922T083000
DTEND;TZID=Europe/Berlin:20170922T130000
DTSTAMP:20260421T122241Z
UID:09aec88d991340fabfe71b3a6b14f546@www.uni-marburg.de
ATTENDEE;CN="Sebastian Müller";ROLE=REQ-PARTICIPANT:Sebastian Müller
CREATED:20170921T152628Z
DESCRIPTION:https://www.uni-marburg.de/de/zfl/aktuelles/termine/keine-angs
 t-vor-wikipedia\nUmgang mit dem Online-Lexikon im Unterricht
LAST-MODIFIED:20170921T152628Z
LOCATION:Philipps-Universität Marburg\, Gutenbergstrasse 18\, (Alte Jäge
 rkaserne)\, 02058-(P1)\, PC-Raum
URL:https://www.uni-marburg.de/de/zfl/aktuelles/termine/keine-angst-vor-wi
 kipedia
END:VEVENT
BEGIN:VTIMEZONE
TZID:Europe/Berlin
X-LIC-LOCATION:Europe/Berlin
BEGIN:DAYLIGHT
DTSTART:20170326T030000
TZNAME:CEST
TZOFFSETFROM:+0100
TZOFFSETTO:+0200
END:DAYLIGHT
END:VTIMEZONE
END:VCALENDAR
