BEGIN:VCALENDAR
VERSION:2.0
PRODID:-//Plone.org//NONSGML plone.app.event//EN
X-WR-TIMEZONE:Europe/Berlin
BEGIN:VEVENT
SUMMARY:Wochenplan Fortbildungen: Im Deutschunterricht kollaborativ digita
 l schreiben
DTSTART;TZID=Europe/Berlin:20220504T160000
DTEND;TZID=Europe/Berlin:20220504T170000
DTSTAMP:20260423T052953Z
UID:ab3423fe2b2444d3b66b3b53585ab35f@www.uni-marburg.de
ATTENDEE;CN="Dr. Nicola König";ROLE=REQ-PARTICIPANT:Dr. Nicola König
CREATED:20210224T133935Z
DESCRIPTION:https://www.uni-marburg.de/de/zfl/aktuelles/termine/kollaborat
 iv-digital-schreiben-04052022\n
LAST-MODIFIED:20220323T082212Z
LOCATION:virtuell
URL:https://www.uni-marburg.de/de/zfl/aktuelles/termine/kollaborativ-digit
 al-schreiben-04052022
END:VEVENT
BEGIN:VTIMEZONE
TZID:Europe/Berlin
X-LIC-LOCATION:Europe/Berlin
BEGIN:DAYLIGHT
DTSTART:20220327T030000
TZNAME:CEST
TZOFFSETFROM:+0100
TZOFFSETTO:+0200
END:DAYLIGHT
END:VTIMEZONE
END:VCALENDAR
