BEGIN:VCALENDAR
VERSION:2.0
PRODID:-//Plone.org//NONSGML plone.app.event//EN
X-WR-TIMEZONE:Europe/Berlin
BEGIN:VEVENT
SUMMARY:Interaktive Lernmaterialien mit LearningApps erstellen
DTSTART;TZID=Europe/Berlin:20230215T143000
DTEND;TZID=Europe/Berlin:20230215T160000
DTSTAMP:20260421T120751Z
UID:b6a9591ec3e347b4b9a0bba180a0b738@www.uni-marburg.de
ATTENDEE;CN="Carmen Bredol";ROLE=REQ-PARTICIPANT:Carmen Bredol
CREATED:20230111T181512Z
DESCRIPTION:https://www.uni-marburg.de/de/zfl/aktuelles/termine/learning-a
 pps-1\n
LAST-MODIFIED:20230116T110640Z
LOCATION:Digital
URL:https://www.uni-marburg.de/de/zfl/aktuelles/termine/learning-apps-1
END:VEVENT
BEGIN:VTIMEZONE
TZID:Europe/Berlin
X-LIC-LOCATION:Europe/Berlin
BEGIN:STANDARD
DTSTART:20221030T020000
TZNAME:CET
TZOFFSETFROM:+0200
TZOFFSETTO:+0100
END:STANDARD
END:VTIMEZONE
END:VCALENDAR
