BEGIN:VCALENDAR
VERSION:2.0
PRODID:-//Plone.org//NONSGML plone.app.event//EN
X-WR-TIMEZONE:Europe/Berlin
BEGIN:VEVENT
SUMMARY:Wochenplan: Interaktive Lernmaterialien mit LearningApps erstellen
DTSTART;TZID=Europe/Berlin:20221006T143000
DTEND;TZID=Europe/Berlin:20221006T153000
DTSTAMP:20260421T120643Z
UID:bdfef77197064be2bb5eb603b4166eb7@www.uni-marburg.de
ATTENDEE;CN="Carmen Bredol";ROLE=REQ-PARTICIPANT:Carmen Bredol
CREATED:20210224T133935Z
DESCRIPTION:https://www.uni-marburg.de/de/zfl/aktuelles/termine/learning-a
 pps\n
LAST-MODIFIED:20220620T135836Z
LOCATION:virtuell
URL:https://www.uni-marburg.de/de/zfl/aktuelles/termine/learning-apps
END:VEVENT
BEGIN:VTIMEZONE
TZID:Europe/Berlin
X-LIC-LOCATION:Europe/Berlin
BEGIN:DAYLIGHT
DTSTART:20220327T030000
TZNAME:CEST
TZOFFSETFROM:+0100
TZOFFSETTO:+0200
END:DAYLIGHT
END:VTIMEZONE
END:VCALENDAR
