BEGIN:VCALENDAR
VERSION:2.0
PRODID:-//Plone.org//NONSGML plone.app.event//EN
X-WR-TIMEZONE:Europe/Berlin
BEGIN:VEVENT
SUMMARY:Eltern\, Lehrer/innen und Schüler/innen im rechtlichen Konflikt
DTSTART;TZID=Europe/Berlin:20210505T160000
DTEND;TZID=Europe/Berlin:20210506T180000
DTSTAMP:20260425T030541Z
UID:a2dd3d3e93844cf99cb2809f95b6132a@www.uni-marburg.de
RRULE:FREQ=DAILY;COUNT=1
ATTENDEE;CN="Dr. St. Klenner";ROLE=REQ-PARTICIPANT:Dr. St. Klenner
CREATED:20210105T140700Z
DESCRIPTION:https://www.uni-marburg.de/de/zfl/aktuelles/termine/lehrer-inn
 en-eltern-und-schueler-innen-im-rechtlichen-konflikt\n
LAST-MODIFIED:20210503T063539Z
LOCATION:Zoom
URL:https://www.uni-marburg.de/de/zfl/aktuelles/termine/lehrer-innen-elter
 n-und-schueler-innen-im-rechtlichen-konflikt
END:VEVENT
BEGIN:VTIMEZONE
TZID:Europe/Berlin
X-LIC-LOCATION:Europe/Berlin
BEGIN:DAYLIGHT
DTSTART:20210328T030000
TZNAME:CEST
TZOFFSETFROM:+0100
TZOFFSETTO:+0200
END:DAYLIGHT
END:VTIMEZONE
END:VCALENDAR
