BEGIN:VCALENDAR
VERSION:2.0
PRODID:-//Plone.org//NONSGML plone.app.event//EN
X-WR-TIMEZONE:Europe/Berlin
BEGIN:VEVENT
SUMMARY:Literaturvermittlung in den Medien
DTSTART;TZID=Europe/Berlin:20190129T140000
DTEND;TZID=Europe/Berlin:20190129T180000
DTSTAMP:20260421T122058Z
UID:cf8629501c464ab8bf174e85b510db2f@www.uni-marburg.de
ATTENDEE;CN="Prof. Dr. Angela Krewani";ROLE=REQ-PARTICIPANT:Prof. Dr. Ange
 la Krewani
CREATED:20170921T161109Z
DESCRIPTION:https://www.uni-marburg.de/de/zfl/aktuelles/termine/literaturv
 ermittlung-in-den-medien-1819\nLiterarische Zugriffe in audiovisuellen Med
 ien
LAST-MODIFIED:20190121T113112Z
LOCATION:Philipps-Universität Marburg\, Wilhelm-Röpke-Straße 6A\, Raum 
 08A07
URL:https://www.uni-marburg.de/de/zfl/aktuelles/termine/literaturvermittlu
 ng-in-den-medien-1819
END:VEVENT
BEGIN:VTIMEZONE
TZID:Europe/Berlin
X-LIC-LOCATION:Europe/Berlin
BEGIN:STANDARD
DTSTART:20181028T020000
TZNAME:CET
TZOFFSETFROM:+0200
TZOFFSETTO:+0100
END:STANDARD
END:VTIMEZONE
END:VCALENDAR
