BEGIN:VCALENDAR
VERSION:2.0
PRODID:-//Plone.org//NONSGML plone.app.event//EN
X-WR-TIMEZONE:Europe/Berlin
BEGIN:VEVENT
SUMMARY:Wochenplan: Erklärvideos im Screencastformat erstellen
DTSTART;TZID=Europe/Berlin:20220928T143000
DTEND;TZID=Europe/Berlin:20220928T153000
DTSTAMP:20260421T124753Z
UID:ecab9169ce614d748df36147d4bb3966@www.uni-marburg.de
ATTENDEE;CN="Carmen Bredol";ROLE=REQ-PARTICIPANT:Carmen Bredol
CREATED:20210224T133935Z
DESCRIPTION:https://www.uni-marburg.de/de/zfl/aktuelles/termine/make-them-
 talk\n
LAST-MODIFIED:20220620T135134Z
LOCATION:virtuell
URL:https://www.uni-marburg.de/de/zfl/aktuelles/termine/make-them-talk
END:VEVENT
BEGIN:VTIMEZONE
TZID:Europe/Berlin
X-LIC-LOCATION:Europe/Berlin
BEGIN:DAYLIGHT
DTSTART:20220327T030000
TZNAME:CEST
TZOFFSETFROM:+0100
TZOFFSETTO:+0200
END:DAYLIGHT
END:VTIMEZONE
END:VCALENDAR
